BEGIN:VCALENDAR
VERSION:2.0
PRODID:-//Logos Research Associates - ECPv6.15.18//NONSGML v1.0//EN
CALSCALE:GREGORIAN
METHOD:PUBLISH
X-WR-CALNAME:Logos Research Associates
X-ORIGINAL-URL:https://logosresearchassociates.org
X-WR-CALDESC:Events for Logos Research Associates
REFRESH-INTERVAL;VALUE=DURATION:PT1H
X-Robots-Tag:noindex
X-PUBLISHED-TTL:PT1H
BEGIN:VTIMEZONE
TZID:America/New_York
BEGIN:DAYLIGHT
TZOFFSETFROM:-0500
TZOFFSETTO:-0400
TZNAME:EDT
DTSTART:20250309T070000
END:DAYLIGHT
BEGIN:STANDARD
TZOFFSETFROM:-0400
TZOFFSETTO:-0500
TZNAME:EST
DTSTART:20251102T060000
END:STANDARD
BEGIN:DAYLIGHT
TZOFFSETFROM:-0500
TZOFFSETTO:-0400
TZNAME:EDT
DTSTART:20260308T070000
END:DAYLIGHT
BEGIN:STANDARD
TZOFFSETFROM:-0400
TZOFFSETTO:-0500
TZNAME:EST
DTSTART:20261101T060000
END:STANDARD
BEGIN:DAYLIGHT
TZOFFSETFROM:-0500
TZOFFSETTO:-0400
TZNAME:EDT
DTSTART:20270314T070000
END:DAYLIGHT
BEGIN:STANDARD
TZOFFSETFROM:-0400
TZOFFSETTO:-0500
TZNAME:EST
DTSTART:20271107T060000
END:STANDARD
END:VTIMEZONE
BEGIN:VEVENT
DTSTART;TZID=America/New_York:20260513T210000
DTEND;TZID=America/New_York:20260513T223000
DTSTAMP:20260421T090455
CREATED:20260418T231650Z
LAST-MODIFIED:20260420T173604Z
UID:7070-1778706000-1778711400@logosresearchassociates.org
SUMMARY:Grand Canyon Folds by Dr. Andrew Snelling
DESCRIPTION:The Cambrian Tapeats Sandstone is at the base of the Paleozoic sedimentary strata sequence in Grand Canyon\, deposited in conventional terms 507-508 million years ago. The whole strata sequence was uplifted 450 million years later to form the Kaibab Plateau\, by which time the Tapeats Sandstone and overlying layers were apparently fully cemented. Yet the brittle cemented sandstone and the overlying layers were bent smoothly in folds without shattering. This research examined samples taken from the folds and from distant outcrops for comparison and examination by microscopes has demonstrated this sandstone layer shows not pressure and heat of burial effects but had to be uncemented\, damp and soft when the folding happened soon after deposition. This is only consistent with the Genesis Flood\, the folding occurring late in the Flood only months after the sandstone was deposited and the cementing of the sand then occurred after the folding\, and thus the 450 million years never happened. \nRegister NOW to join Logos Research Associates LIVE on Wednesday May 13\, 2026\, at 9pm EDT!
URL:https://logosresearchassociates.org/event/grandcanyonfolds-drsnelling/
LOCATION:Youtube Livestream
CATEGORIES:Livestream Presentation
ATTACH;FMTTYPE=application/pdf:https://logosresearchassociates.org/wp-content/uploads/2026/04/LogosRA_May2026Snelling-output.pdf
END:VEVENT
END:VCALENDAR